BEGIN:VCALENDAR
VERSION:2.0
PRODID:icalendar-ruby
CALSCALE:GREGORIAN
METHOD:PUBLISH
BEGIN:VEVENT
DTSTAMP:20260425T024124Z
UID:5-1140713@immanuelonline.ca
DTSTART:20261101T180000Z
DTEND:20261101T190000Z
CLASS:PUBLIC
CREATED:20260424T174633
DESCRIPTION:Nursery and Immanuel Kids ministries available during the servi
 ce.
LAST-MODIFIED:20260424T174633
LOCATION:Main Auditorium
SUMMARY:Sunday Service
URL;VALUE=URI:https://www.immanuelonline.ca/events/sunday-service/2026-11-0
 1
ATTACH;FILENAME=Sunday Service_1500x784.png;FMTTYPE=image/png:https://dq5pw
 pg1q8ru0.cloudfront.net/2023/01/11/13/11/42/ae5dcc49-a4fb-4b0e-8d98-cafe5a
 0f2a22/Sunday%20Service_1500x784.png
END:VEVENT
END:VCALENDAR
