BEGIN:VCALENDAR
VERSION:2.0
PRODID:icalendar-ruby
CALSCALE:GREGORIAN
METHOD:PUBLISH
BEGIN:VEVENT
DTSTAMP:20260420T084809Z
UID:77-613442@immanuelonline.ca
DTSTART:20250914T183000Z
DTEND:20250914T210000Z
CLASS:PUBLIC
CREATED:20250807T134636
DESCRIPTION:Whether you have attended Immanuel for years or you are brand n
 ew\, we hope you can join us for a time of festivities to kick-off the nex
 t year! Hotdogs\, games\, and togetherness? Now\, that's a party!\nNo regi
 stration necessary.
LAST-MODIFIED:20250807T134636
LOCATION:2950 Blue Jay Street
SUMMARY:Fall Kick-Off 2025
URL;VALUE=URI:https://www.immanuelonline.ca/events/fall-kick-off-2025/2025-
 09-14
ATTACH;FILENAME=SEPTEMBER KICK-OFF.jpg;FMTTYPE=image/jpeg:https://dq5pwpg1q
 8ru0.cloudfront.net/2025/08/07/20/46/36/44a35ad7-5cc2-4b92-9cae-ce279c24a8
 61/SEPTEMBER%20KICK-OFF.jpg
END:VEVENT
END:VCALENDAR
